BEGIN:VCALENDAR
VERSION:2.0
PRODID:-//eventon.com NONSGML v1.0//EN
CALSCALE:GREGORIAN
METHOD:PUBLISH
BEGIN:VEVENT
UID:69e7822c28db5
DTSTAMP:20260421T135700Z
DTSTART:20231018T180000Z
DTEND:20231018T193000Z
LOCATION:https://www.naccc.org/events/ecrf/var/ri-5.l-L1
SUMMARY:Executive Certificate in Religious Fundraising
DESCRIPTION:The Executive Certificate in Religious Fundraising (ECRF) is an
  eight-week online course and practical application project through the Lak
 e Institute on Faith &amp; Giving\,  part of the Indiana University Lilly F
 amily School of Philanthropy. The course provides the research\,  tools\,  
 and customized training to meet the growing needs of leaders[..]\nhttps://w
 ww.naccc.org/events/ecrf/var/ri-5.l-L1
URL:https://www.naccc.org/events/ecrf/var/ri-5.l-L1
END:VEVENT
END:VCALENDAR