BEGIN:VCALENDAR
VERSION:2.0
PRODID:-//eventon.com NONSGML v1.0//EN
CALSCALE:GREGORIAN
METHOD:PUBLISH
BEGIN:VEVENT
UID:69e8b2bfd1dbb
DTSTAMP:20260422T113631Z
DTSTART:20250621
DTEND:20250622
LOCATION:
SUMMARY:2025 Annual Meeting and Conference
DESCRIPTION:Registration is now open! Register to Attend In Person    Re
 gister to Attend Virtually &nbsp; The 71st Annual Meeting &amp; Conference 
 of the National Association of Congregational Christian Churches will be he
 ld in St. Louis\,  Missouri\,  from June 21-24\,  2025.  &nbsp; Meeting In
 formation Official Call Registration Brochure Delegate and Alternate Creden
 tials[..]\nhttps://www.naccc.org/events/2025-annual-meeting-and-conference/
URL:https://www.naccc.org/events/2025-annual-meeting-and-conference/
END:VEVENT
END:VCALENDAR