BEGIN:VCALENDAR
VERSION:2.0
PRODID:-//eventon.com NONSGML v1.0//EN
CALSCALE:GREGORIAN
METHOD:PUBLISH
BEGIN:VEVENT
UID:69e767e12e5a8
DTSTAMP:20260421T120449Z
DTSTART:20260627
DTEND:20260628
LOCATION:
SUMMARY:2026 Annual Meeting and Conference
DESCRIPTION:The 72nd Annual Meeting &amp; Conference of the National Associ
 ation of Congregational Christian Churches will be held in Springfield\,  M
 assachusetts\,  from June 27-30\,  2026.  Registration is now open! Regist
 er to Attend In Person    Register to Attend Virtually &nbsp; Meeting In
 formation Official Call Registration Brochure Delegate and Alternate Creden
 tials Detailed Agenda[..]\nhttps://www.naccc.org/events/2026-annual-meeting
 -and-conference/
URL:https://www.naccc.org/events/2026-annual-meeting-and-conference/
END:VEVENT
END:VCALENDAR